BEGIN:VCALENDAR
PRODID:-//dvv-bw.de//dvv.Portalplattform//DE
VERSION:2.0
METHOD:PUBLISH
BEGIN:VEVENT
DTSTART:20260621T220000Z
DTEND:20260625T220000Z
DTSTAMP:20260422T112402Z
RRULE;FREQ=DAILY;UNTIL=20260626T215959Z
UID:668767133-668767032-1782079200000
SUMMARY:Zirkuswoche
DESCRIPTION:Zirkuswoche
CLASS:PUBLIC
X-ALT-DESC;FMTTYPE=text/html:Zirkuswoche
END:VEVENT
END:VCALENDAR
