BEGIN:VCALENDAR
PRODID:-//dvv-bw.de//dvv.Portalplattform//DE
VERSION:2.0
METHOD:PUBLISH
BEGIN:VEVENT
DTSTART:20260419T220000Z
DTEND:20260423T220000Z
DTSTAMP:20260419T220000Z
RRULE;FREQ=DAILY;UNTIL=20260424T215959Z
UID:668767122-668767021-1776636000000
SUMMARY:Woche des Helfens
DESCRIPTION:Woche des Helfens
CLASS:PUBLIC
X-ALT-DESC;FMTTYPE=text/html:Woche des Helfens
END:VEVENT
END:VCALENDAR
