BEGIN:VCALENDAR
PRODID:-//dvv-bw.de//dvv.Portalplattform//DE
VERSION:2.0
METHOD:PUBLISH
BEGIN:VEVENT
DTSTART:20260427T220000Z
DTEND:20260427T220000Z
DTSTAMP:20260422T112428Z
UID:668767125-668767024-1777327200000
SUMMARY:VERA 3: Mathe (Klasse 3)
DESCRIPTION:VERA 3: Mathe (Klasse 3)
CLASS:PUBLIC
X-ALT-DESC;FMTTYPE=text/html:VERA 3: Mathe (Klasse 3)
END:VEVENT
END:VCALENDAR
