BEGIN:VCALENDAR
PRODID:-//dvv-bw.de//dvv.Portalplattform//DE
VERSION:2.0
METHOD:PUBLISH
BEGIN:VEVENT
DTSTART:20260423T220000Z
DTEND:20260423T220000Z
DTSTAMP:20260422T112712Z
UID:668767124-668767023-1776981600000
SUMMARY:VERA3-Deutsch Sprachgebrauch (Klasse 3)
DESCRIPTION:VERA3-Deutsch Sprachgebrauch (Klasse 3)
CLASS:PUBLIC
X-ALT-DESC;FMTTYPE=text/html:VERA3-Deutsch Sprachgebrauch (Klasse 3)
END:VEVENT
END:VCALENDAR
