BEGIN:VCALENDAR
PRODID:-//dvv-bw.de//dvv.Portalplattform//DE
VERSION:2.0
METHOD:PUBLISH
BEGIN:VEVENT
DTSTART:20260510T220000Z
DTEND:20260512T220000Z
DTSTAMP:20260422T112950Z
RRULE;FREQ=DAILY;UNTIL=20260513T215959Z
UID:668767129-668767028-1778450400000
SUMMARY:Schullandheim Klasse 4a/4b
DESCRIPTION:Schullandheim Klasse 4a/4b
CLASS:PUBLIC
X-ALT-DESC;FMTTYPE=text/html:Schullandheim Klasse 4a/4b
END:VEVENT
END:VCALENDAR
