BEGIN:VCALENDAR
PRODID:-//dvv-bw.de//dvv.Portalplattform//DE
VERSION:2.0
METHOD:PUBLISH
BEGIN:VEVENT
DTSTART:20260728T063000Z
DTEND:20260728T083000Z
DTSTAMP:20260422T112819Z
UID:668767136-668767035-1785189600000
SUMMARY:Schuljahresabschlussgottesdienst
DESCRIPTION:Schuljahresabschlussgottesdienst
CLASS:PUBLIC
X-ALT-DESC;FMTTYPE=text/html:Schuljahresabschlussgottesdienst
END:VEVENT
END:VCALENDAR
