BEGIN:VCALENDAR
PRODID:-//dvv-bw.de//dvv.Portalplattform//DE
VERSION:2.0
METHOD:PUBLISH
BEGIN:VEVENT
DTSTART:20260522T220000Z
DTEND:20260605T220000Z
DTSTAMP:20260422T112137Z
RRULE;FREQ=DAILY;UNTIL=20260606T215959Z
UID:668767132-668767031-1779487200000
SUMMARY:Pfingstferien
DESCRIPTION:Pfingstferien
CLASS:PUBLIC
X-ALT-DESC;FMTTYPE=text/html:Pfingstferien
END:VEVENT
END:VCALENDAR
