BEGIN:VCALENDAR
PRODID:-//dvv-bw.de//dvv.Portalplattform//DE
VERSION:2.0
METHOD:PUBLISH
BEGIN:VEVENT
DTSTART:20260512T220000Z
DTEND:20260512T220000Z
DTSTAMP:20260422T112034Z
UID:668767130-668767029-1778623200000
SUMMARY:Minimarathon in Tiengen
DESCRIPTION:Minimarathon in Tiengen
CLASS:PUBLIC
X-ALT-DESC;FMTTYPE=text/html:Minimarathon in Tiengen
END:VEVENT
END:VCALENDAR
