BEGIN:VCALENDAR
PRODID:-//dvv-bw.de//dvv.Portalplattform//DE
VERSION:2.0
METHOD:PUBLISH
BEGIN:VEVENT
DTSTART:20260914T220000Z
DTEND:20260914T220000Z
DTSTAMP:20260422T112008Z
UID:668767144-668767042-1789423200000
SUMMARY:Elternabend Klasse 1
DESCRIPTION:Elternabend Klasse 1
CLASS:PUBLIC
X-ALT-DESC;FMTTYPE=text/html:Elternabend Klasse 1
END:VEVENT
END:VCALENDAR
