BEGIN:VCALENDAR
PRODID:-//dvv-bw.de//dvv.Portalplattform//DE
VERSION:2.0
METHOD:PUBLISH
BEGIN:VEVENT
DTSTART:20260917T070000Z
DTEND:20260917T090000Z
DTSTAMP:20260422T113410Z
UID:668767145-668767043-1789596000000
SUMMARY:Einschulungsgottesdienst für Schulanfänger
DESCRIPTION:Einschulungsgottesdienst für Schulanfänger
CLASS:PUBLIC
X-ALT-DESC;FMTTYPE=text/html:Einschulungsgottesdienst für Schulanfänger
END:VEVENT
END:VCALENDAR
