BEGIN:VCALENDAR
PRODID:-//dvv-bw.de//dvv.Portalplattform//DE
VERSION:2.0
METHOD:PUBLISH
BEGIN:VEVENT
DTSTART:20260917T080000Z
DTEND:20260917T100000Z
DTSTAMP:20260422T112342Z
UID:668767146-668767044-1789596000000
SUMMARY:Einschulungsfeier
LOCATION:Gemeindehalle Lottstetten
DESCRIPTION:Einschulungsfeier
CLASS:PUBLIC
X-ALT-DESC;FMTTYPE=text/html:Einschulungsfeier
END:VEVENT
END:VCALENDAR
